BEGIN:VCALENDAR
VERSION:2.0
PRODID:-//Contratero//ES
CALSCALE:GREGORIAN
METHOD:PUBLISH
BEGIN:VEVENT
UID:02/2022 NSP@contratero.es
DTSTAMP:20260425T113503Z
DTSTART:20220516T235959
DTEND:20220517T005959
SUMMARY:Cierre: Prestación del servicio de mantenimiento y soporte
DESCRIPTION:Prestación del servicio de mantenimiento y soporte técnico de la plataforma BackOffice CEICC de la Sociedad para el desarrollo de Canarias SA\\n\\nOrganismo: Consejería Delegada de la Sociedad para el Desarrollo Económico de Canarias\, SODECAN S.A.\\n\\nVer en Contratero: https://contratero.es/contracts/02/2022 NSP
URL:https://contratero.es/contracts/02/2022 NSP
STATUS:CONFIRMED
BEGIN:VALARM
TRIGGER:-P1D
ACTION:DISPLAY
DESCRIPTION:Recordatorio: Prestación del servicio de man
END:VALARM
END:VEVENT
END:VCALENDAR